BEGIN:VCALENDAR
VERSION:2.0
PRODID:-//www.ruedtligen-alchenflueh.ch//NONSGML kigkonsult.se ICALCREATOR_
 VERSION//
CALSCALE:GREGORIAN
METHOD:PUBLISH
X-WR-TIMEZONE','EUROPE/BERLIN:
BEGIN:VEVENT
UID:20260424T160934CEST-2700v7zU0C@www.ruedtligen-alchenflueh.ch
DTSTAMP:20260424T140934Z
DESCRIPTION:Klicken Sie auf den folgenden Link\, um weitere Informationen z
 ur Veranstaltung zu erhalten:\nhttp://www.ruedtligen-alchenflueh.ch/de/ver
 anstaltungen/detail/detail.php?i=432
DTSTART:20261202T200000
LOCATION:Gemeindesaal
SUMMARY:Gemeindeversammlung inkl. Jungbürgerfeier
END:VEVENT
END:VCALENDAR
