BEGIN:VCALENDAR
VERSION:2.0
PRODID:-//www.ruedtligen-alchenflueh.ch//NONSGML kigkonsult.se ICALCREATOR_
 VERSION//
CALSCALE:GREGORIAN
METHOD:PUBLISH
X-WR-TIMEZONE','EUROPE/BERLIN:
BEGIN:VEVENT
UID:20260424T160805CEST-0262KblEhn@www.ruedtligen-alchenflueh.ch
DTSTAMP:20260424T140805Z
DESCRIPTION:Klicken Sie auf den folgenden Link\, um weitere Informationen z
 ur Veranstaltung zu erhalten:\nhttp://www.ruedtligen-alchenflueh.ch/de/ver
 anstaltungen/detail/detail.php?i=430
DTSTART:20260615T193000
LOCATION:Autobahnüberdeckung
SUMMARY:Musikständli MGKE
END:VEVENT
END:VCALENDAR
