BEGIN:VCALENDAR
VERSION:2.0
PRODID:-//www.ruedtligen-alchenflueh.ch//NONSGML kigkonsult.se ICALCREATOR_
 VERSION//
CALSCALE:GREGORIAN
METHOD:PUBLISH
X-WR-TIMEZONE','EUROPE/BERLIN:
BEGIN:VEVENT
UID:20260424T160759CEST-1107u8x6tC@www.ruedtligen-alchenflueh.ch
DTSTAMP:20260424T140759Z
DESCRIPTION:Klicken Sie auf den folgenden Link\, um weitere Informationen z
 ur Veranstaltung zu erhalten:\nhttp://www.ruedtligen-alchenflueh.ch/de/ver
 anstaltungen/detail/detail.php?i=429
DTSTART:20260607T000000
LOCATION:BMX-Bahn Alchenflüh
SUMMARY:BMX Race
END:VEVENT
END:VCALENDAR
