BEGIN:VCALENDAR
VERSION:2.0
PRODID:-//www.ruedtligen-alchenflueh.ch//NONSGML kigkonsult.se ICALCREATOR_
 VERSION//
CALSCALE:GREGORIAN
METHOD:PUBLISH
X-WR-TIMEZONE','EUROPE/BERLIN:
BEGIN:VEVENT
UID:20260424T160857CEST-9897GKd7Nx@www.ruedtligen-alchenflueh.ch
DTSTAMP:20260424T140857Z
DESCRIPTION:Klicken Sie auf den folgenden Link\, um weitere Informationen z
 ur Veranstaltung zu erhalten:\nhttp://www.ruedtligen-alchenflueh.ch/de/ver
 anstaltungen/detail/detail.php?i=426
DTSTART:20260619T180000
DTEND:20260619T191500
LOCATION:Schiessanlage Aefligen
SUMMARY:Obligatorisches Programm Schiessen
END:VEVENT
END:VCALENDAR
