BEGIN:VCALENDAR
VERSION:2.0
PRODID:-//www.ruedtligen-alchenflueh.ch//NONSGML kigkonsult.se ICALCREATOR_
 VERSION//
CALSCALE:GREGORIAN
METHOD:PUBLISH
X-WR-TIMEZONE','EUROPE/BERLIN:
BEGIN:VEVENT
UID:20260424T160717CEST-493603ZwvP@www.ruedtligen-alchenflueh.ch
DTSTAMP:20260424T140717Z
DESCRIPTION:Klicken Sie auf den folgenden Link\, um weitere Informationen z
 ur Veranstaltung zu erhalten:\nhttp://www.ruedtligen-alchenflueh.ch/de/ver
 anstaltungen/detail/detail.php?i=424
DTSTART:20260529T180000
DTEND:20260529T193000
LOCATION:Schiessanlage Aefligen
SUMMARY:Feldschiessen
END:VEVENT
END:VCALENDAR
