BEGIN:VCALENDAR
VERSION:2.0
PRODID:-//www.ruedtligen-alchenflueh.ch//NONSGML kigkonsult.se ICALCREATOR_
 VERSION//
CALSCALE:GREGORIAN
METHOD:PUBLISH
X-WR-TIMEZONE','EUROPE/BERLIN:
BEGIN:VEVENT
UID:20260424T160758CEST-9666BsP0Z8@www.ruedtligen-alchenflueh.ch
DTSTAMP:20260424T140758Z
DESCRIPTION:Klicken Sie auf den folgenden Link\, um weitere Informationen z
 ur Veranstaltung zu erhalten:\nhttp://www.ruedtligen-alchenflueh.ch/de/ver
 anstaltungen/detail/detail.php?i=423
DTSTART:20261014T140000
DTEND:20261014T160000
LOCATION:Turnhalle
SUMMARY:KIDS-Fun turnen
END:VEVENT
END:VCALENDAR
