BEGIN:VCALENDAR
VERSION:2.0
PRODID:-//www.ruedtligen-alchenflueh.ch//NONSGML kigkonsult.se ICALCREATOR_
 VERSION//
CALSCALE:GREGORIAN
METHOD:PUBLISH
X-WR-TIMEZONE','EUROPE/BERLIN:
BEGIN:VEVENT
UID:20260424T160712CEST-8014IVMMGB@www.ruedtligen-alchenflueh.ch
DTSTAMP:20260424T140712Z
DESCRIPTION:Klicken Sie auf den folgenden Link\, um weitere Informationen z
 ur Veranstaltung zu erhalten:\nhttp://www.ruedtligen-alchenflueh.ch/de/ver
 anstaltungen/detail/detail.php?i=421
DTSTART:20260520T140000
DTEND:20260520T160000
LOCATION:Pausenplatz
SUMMARY:Spiele-Nami
END:VEVENT
END:VCALENDAR
