BEGIN:VCALENDAR
VERSION:2.0
PRODID:-//www.ruedtligen-alchenflueh.ch//NONSGML kigkonsult.se ICALCREATOR_
 VERSION//
CALSCALE:GREGORIAN
METHOD:PUBLISH
X-WR-TIMEZONE','EUROPE/BERLIN:
BEGIN:VEVENT
UID:20260424T161156CEST-7325iiH3hp@www.ruedtligen-alchenflueh.ch
DTSTAMP:20260424T141156Z
DESCRIPTION:Klicken Sie auf den folgenden Link\, um weitere Informationen z
 ur Veranstaltung zu erhalten:\nhttp://www.ruedtligen-alchenflueh.ch/de/ver
 anstaltungen/detail/detail.php?i=413
DTSTART:20261003T110000
LOCATION:Hornusserplatz Rüdtligen
SUMMARY:Schlusshornussen
END:VEVENT
END:VCALENDAR
