BEGIN:VCALENDAR
VERSION:2.0
PRODID:-//www.ruedtligen-alchenflueh.ch//NONSGML kigkonsult.se ICALCREATOR_
 VERSION//
CALSCALE:GREGORIAN
METHOD:PUBLISH
X-WR-TIMEZONE','EUROPE/BERLIN:
BEGIN:VEVENT
UID:20260424T161505CEST-6459530dCG@www.ruedtligen-alchenflueh.ch
DTSTAMP:20260424T141505Z
DESCRIPTION:Klicken Sie auf den folgenden Link\, um weitere Informationen z
 ur Veranstaltung zu erhalten:\nhttp://www.ruedtligen-alchenflueh.ch/de/ver
 anstaltungen/detail/detail.php?i=410
DTSTART:20260711T120000
LOCATION:Hornusserplatz Rüdtligen
SUMMARY:Meisterschaft Hornussen
END:VEVENT
END:VCALENDAR
