BEGIN:VCALENDAR
VERSION:2.0
PRODID:-//www.ruedtligen-alchenflueh.ch//NONSGML kigkonsult.se ICALCREATOR_
 VERSION//
CALSCALE:GREGORIAN
METHOD:PUBLISH
X-WR-TIMEZONE','EUROPE/BERLIN:
BEGIN:VEVENT
UID:20260424T143713CEST-81214TlJGv@www.ruedtligen-alchenflueh.ch
DTSTAMP:20260424T123713Z
DESCRIPTION:Klicken Sie auf den folgenden Link\, um weitere Informationen z
 ur Veranstaltung zu erhalten:\nhttp://www.ruedtligen-alchenflueh.ch/de/ver
 anstaltungen/detail/detail.php?i=402
DTSTART:20260516T120000
LOCATION:Hornusserplatz Kernenried
SUMMARY:Meisterschaft Hornussen
END:VEVENT
END:VCALENDAR
