BEGIN:VCALENDAR
VERSION:2.0
PRODID:-//www.ruedtligen-alchenflueh.ch//NONSGML kigkonsult.se ICALCREATOR_
 VERSION//
CALSCALE:GREGORIAN
METHOD:PUBLISH
X-WR-TIMEZONE','EUROPE/BERLIN:
BEGIN:VEVENT
UID:20260419T143659CEST-2605fdtI0z@www.ruedtligen-alchenflueh.ch
DTSTAMP:20260419T123659Z
DESCRIPTION:Klicken Sie auf den folgenden Link\, um weitere Informationen z
 ur Veranstaltung zu erhalten:\nhttp://www.ruedtligen-alchenflueh.ch/de/ver
 anstaltungen/detail/detail.php?i=1
DTSTART:20260418T100000
DTEND:20260418T160000
LOCATION:TopEvents
SUMMARY:Rampenverkauf Top Events
END:VEVENT
END:VCALENDAR
